BEGIN:VCALENDAR
VERSION:2.0
PRODID:-//El Paso County Clerk and Recorder - ECPv6.15.17.1//NONSGML v1.0//EN
CALSCALE:GREGORIAN
METHOD:PUBLISH
X-WR-CALNAME:El Paso County Clerk and Recorder
X-ORIGINAL-URL:https://clerkandrecorder.elpasoco.com
X-WR-CALDESC:Events for El Paso County Clerk and Recorder
REFRESH-INTERVAL;VALUE=DURATION:PT1H
X-Robots-Tag:noindex
X-PUBLISHED-TTL:PT1H
BEGIN:VTIMEZONE
TZID:America/Denver
BEGIN:DAYLIGHT
TZOFFSETFROM:-0700
TZOFFSETTO:-0600
TZNAME:MDT
DTSTART:20250309T090000
END:DAYLIGHT
BEGIN:STANDARD
TZOFFSETFROM:-0600
TZOFFSETTO:-0700
TZNAME:MST
DTSTART:20251102T080000
END:STANDARD
BEGIN:DAYLIGHT
TZOFFSETFROM:-0700
TZOFFSETTO:-0600
TZNAME:MDT
DTSTART:20260308T090000
END:DAYLIGHT
BEGIN:STANDARD
TZOFFSETFROM:-0600
TZOFFSETTO:-0700
TZNAME:MST
DTSTART:20261101T080000
END:STANDARD
BEGIN:DAYLIGHT
TZOFFSETFROM:-0700
TZOFFSETTO:-0600
TZNAME:MDT
DTSTART:20270314T090000
END:DAYLIGHT
BEGIN:STANDARD
TZOFFSETFROM:-0600
TZOFFSETTO:-0700
TZNAME:MST
DTSTART:20271107T080000
END:STANDARD
END:VTIMEZONE
BEGIN:VEVENT
DTSTART;TZID=America/Denver:20260512T090000
DTEND;TZID=America/Denver:20260512T110000
DTSTAMP:20260424T075403
CREATED:20260415T182514Z
LAST-MODIFIED:20260415T182531Z
UID:10000300-1778576400-1778583600@clerkandrecorder.elpasoco.com
SUMMARY:BOCC Meeting
DESCRIPTION:The El Paso County Board of Commissioners meet every Tuesday at 9 a.m. at Centennial Hall.
URL:https://clerkandrecorder.elpasoco.com/event/bocc-meeting-2/2026-05-12/
LOCATION:Centennial Hall\, 200 S. Cascade\, Colorado Springs\, CO\, United States
CATEGORIES:Clerk to the Board
END:VEVENT
BEGIN:VEVENT
DTSTART;TZID=America/Denver:20260519T090000
DTEND;TZID=America/Denver:20260519T110000
DTSTAMP:20260424T075403
CREATED:20260415T182514Z
LAST-MODIFIED:20260415T182531Z
UID:10000301-1779181200-1779188400@clerkandrecorder.elpasoco.com
SUMMARY:BOCC Meeting
DESCRIPTION:The El Paso County Board of Commissioners meet every Tuesday at 9 a.m. at Centennial Hall.
URL:https://clerkandrecorder.elpasoco.com/event/bocc-meeting-2/2026-05-19/
LOCATION:Centennial Hall\, 200 S. Cascade\, Colorado Springs\, CO\, United States
CATEGORIES:Clerk to the Board
END:VEVENT
BEGIN:VEVENT
DTSTART;TZID=America/Denver:20260526T090000
DTEND;TZID=America/Denver:20260526T110000
DTSTAMP:20260424T075403
CREATED:20260415T182514Z
LAST-MODIFIED:20260415T182531Z
UID:10000302-1779786000-1779793200@clerkandrecorder.elpasoco.com
SUMMARY:BOCC Meeting
DESCRIPTION:The El Paso County Board of Commissioners meet every Tuesday at 9 a.m. at Centennial Hall.
URL:https://clerkandrecorder.elpasoco.com/event/bocc-meeting-2/2026-05-26/
LOCATION:Centennial Hall\, 200 S. Cascade\, Colorado Springs\, CO\, United States
CATEGORIES:Clerk to the Board
END:VEVENT
END:VCALENDAR