BEGIN:VCALENDAR
VERSION:2.0
PRODID:-//El Paso County Clerk and Recorder - ECPv6.15.17.1//NONSGML v1.0//EN
CALSCALE:GREGORIAN
METHOD:PUBLISH
X-WR-CALNAME:El Paso County Clerk and Recorder
X-ORIGINAL-URL:https://clerkandrecorder.elpasoco.com
X-WR-CALDESC:Events for El Paso County Clerk and Recorder
REFRESH-INTERVAL;VALUE=DURATION:PT1H
X-Robots-Tag:noindex
X-PUBLISHED-TTL:PT1H
BEGIN:VTIMEZONE
TZID:America/Denver
BEGIN:DAYLIGHT
TZOFFSETFROM:-0700
TZOFFSETTO:-0600
TZNAME:MDT
DTSTART:20250309T090000
END:DAYLIGHT
BEGIN:STANDARD
TZOFFSETFROM:-0600
TZOFFSETTO:-0700
TZNAME:MST
DTSTART:20251102T080000
END:STANDARD
BEGIN:DAYLIGHT
TZOFFSETFROM:-0700
TZOFFSETTO:-0600
TZNAME:MDT
DTSTART:20260308T090000
END:DAYLIGHT
BEGIN:STANDARD
TZOFFSETFROM:-0600
TZOFFSETTO:-0700
TZNAME:MST
DTSTART:20261101T080000
END:STANDARD
BEGIN:DAYLIGHT
TZOFFSETFROM:-0700
TZOFFSETTO:-0600
TZNAME:MDT
DTSTART:20270314T090000
END:DAYLIGHT
BEGIN:STANDARD
TZOFFSETFROM:-0600
TZOFFSETTO:-0700
TZNAME:MST
DTSTART:20271107T080000
END:STANDARD
END:VTIMEZONE
BEGIN:VEVENT
DTSTART;TZID=America/Denver:20260505T100000
DTEND;TZID=America/Denver:20260505T120000
DTSTAMP:20260424T111025
CREATED:20260415T182010Z
LAST-MODIFIED:20260415T182243Z
UID:10000041-1777975200-1777982400@clerkandrecorder.elpasoco.com
SUMMARY:BOCC Meeting
DESCRIPTION:The El Paso County Board of County Commissioners meet every Tuesday at 9 a.m. at Centennial Hall at 200 S. Cascade.
URL:https://clerkandrecorder.elpasoco.com/event/bocc-meeting/
LOCATION:Centennial Hall\, 200 S. Cascade\, Colorado Springs\, CO\, United States
CATEGORIES:Clerk to the Board
END:VEVENT
BEGIN:VEVENT
DTSTART;TZID=America/Denver:20260512T090000
DTEND;TZID=America/Denver:20260512T110000
DTSTAMP:20260424T111025
CREATED:20260415T182514Z
LAST-MODIFIED:20260415T182531Z
UID:10000300-1778576400-1778583600@clerkandrecorder.elpasoco.com
SUMMARY:BOCC Meeting
DESCRIPTION:The El Paso County Board of Commissioners meet every Tuesday at 9 a.m. at Centennial Hall.
URL:https://clerkandrecorder.elpasoco.com/event/bocc-meeting-2/2026-05-12/
LOCATION:Centennial Hall\, 200 S. Cascade\, Colorado Springs\, CO\, United States
CATEGORIES:Clerk to the Board
END:VEVENT
BEGIN:VEVENT
DTSTART;TZID=America/Denver:20260513T080000
DTEND;TZID=America/Denver:20260513T120000
DTSTAMP:20260424T111025
CREATED:20260415T180910Z
LAST-MODIFIED:20260415T180910Z
UID:10000039-1778659200-1778673600@clerkandrecorder.elpasoco.com
SUMMARY:All Departments Opening at Noon
DESCRIPTION:All Clerk and Recorder departments are opening late at 12 p.m. on Wednesday\, May 13\, due to an office-wide staff meeting. For motor vehicle services\, visit a kiosk or go online to dmv.colorado.gov.
URL:https://clerkandrecorder.elpasoco.com/event/all-departments-opening-at-noon/
LOCATION:CO
END:VEVENT
BEGIN:VEVENT
DTSTART;TZID=America/Denver:20260514T090000
DTEND;TZID=America/Denver:20260514T110000
DTSTAMP:20260424T111025
CREATED:20260415T182857Z
LAST-MODIFIED:20260415T182857Z
UID:10000303-1778749200-1778756400@clerkandrecorder.elpasoco.com
SUMMARY:BOCC Land Use Meeting
DESCRIPTION:The El Paso County Board of County Commissioners hold a Land Use meeting every other Thursday at 9 a.m. at Centennial Hall.
URL:https://clerkandrecorder.elpasoco.com/event/bocc-land-use-meeting/2026-05-14/
LOCATION:Centennial Hall\, 200 S. Cascade\, Colorado Springs\, CO\, United States
CATEGORIES:Clerk to the Board
END:VEVENT
BEGIN:VEVENT
DTSTART;VALUE=DATE:20260515
DTEND;VALUE=DATE:20260516
DTSTAMP:20260424T111025
CREATED:20260415T183451Z
LAST-MODIFIED:20260415T183451Z
UID:10000305-1778803200-1778889599@clerkandrecorder.elpasoco.com
SUMMARY:Ballots Sent to UOCAVA Voters
DESCRIPTION:Ballots for the June Primary Election will be sent to Uniformed and Overseas Voters on Friday\, May 15.
URL:https://clerkandrecorder.elpasoco.com/event/ballots-sent-to-uocava-voters/
LOCATION:Elections Department\, 1675 W. Garden of the Gods Road Suite 2202\, Colorado Springs\, CO\, 80907\, United States
CATEGORIES:Elections
END:VEVENT
BEGIN:VEVENT
DTSTART;TZID=America/Denver:20260519T090000
DTEND;TZID=America/Denver:20260519T110000
DTSTAMP:20260424T111025
CREATED:20260415T182514Z
LAST-MODIFIED:20260415T182531Z
UID:10000301-1779181200-1779188400@clerkandrecorder.elpasoco.com
SUMMARY:BOCC Meeting
DESCRIPTION:The El Paso County Board of Commissioners meet every Tuesday at 9 a.m. at Centennial Hall.
URL:https://clerkandrecorder.elpasoco.com/event/bocc-meeting-2/2026-05-19/
LOCATION:Centennial Hall\, 200 S. Cascade\, Colorado Springs\, CO\, United States
CATEGORIES:Clerk to the Board
END:VEVENT
BEGIN:VEVENT
DTSTART;VALUE=DATE:20260523
DTEND;VALUE=DATE:20260524
DTSTAMP:20260424T111025
CREATED:20260415T180157Z
LAST-MODIFIED:20260415T180157Z
UID:10000038-1779494400-1779580799@clerkandrecorder.elpasoco.com
SUMMARY:Union Town Center DMV Closed
DESCRIPTION:The North DMV at Union Town Center will be closed Saturday\, May 23. Marriage license services will be unavailable. For motor vehicle services\, visit a kiosk or go online to dmv.colorado.gov.
URL:https://clerkandrecorder.elpasoco.com/event/union-town-center-dmv-closed-5/
LOCATION:Union Town Center DMV\, 8830 N. Union Blvd\, Colorado Springs\, CO\, United States
CATEGORIES:Motor Vehicle
END:VEVENT
BEGIN:VEVENT
DTSTART;TZID=America/Denver:20260526T090000
DTEND;TZID=America/Denver:20260526T110000
DTSTAMP:20260424T111025
CREATED:20260415T182514Z
LAST-MODIFIED:20260415T182531Z
UID:10000302-1779786000-1779793200@clerkandrecorder.elpasoco.com
SUMMARY:BOCC Meeting
DESCRIPTION:The El Paso County Board of Commissioners meet every Tuesday at 9 a.m. at Centennial Hall.
URL:https://clerkandrecorder.elpasoco.com/event/bocc-meeting-2/2026-05-26/
LOCATION:Centennial Hall\, 200 S. Cascade\, Colorado Springs\, CO\, United States
CATEGORIES:Clerk to the Board
END:VEVENT
BEGIN:VEVENT
DTSTART;TZID=America/Denver:20260528T090000
DTEND;TZID=America/Denver:20260528T110000
DTSTAMP:20260424T111025
CREATED:20260415T182857Z
LAST-MODIFIED:20260415T182857Z
UID:10000304-1779958800-1779966000@clerkandrecorder.elpasoco.com
SUMMARY:BOCC Land Use Meeting
DESCRIPTION:The El Paso County Board of County Commissioners hold a Land Use meeting every other Thursday at 9 a.m. at Centennial Hall.
URL:https://clerkandrecorder.elpasoco.com/event/bocc-land-use-meeting/2026-05-28/
LOCATION:Centennial Hall\, 200 S. Cascade\, Colorado Springs\, CO\, United States
CATEGORIES:Clerk to the Board
END:VEVENT
END:VCALENDAR