BEGIN:VCALENDAR
VERSION:2.0
PRODID:-//El Paso County Clerk and Recorder - ECPv6.15.17.1//NONSGML v1.0//EN
CALSCALE:GREGORIAN
METHOD:PUBLISH
X-ORIGINAL-URL:https://clerkandrecorder.elpasoco.com
X-WR-CALDESC:Events for El Paso County Clerk and Recorder
REFRESH-INTERVAL;VALUE=DURATION:PT1H
X-Robots-Tag:noindex
X-PUBLISHED-TTL:PT1H
BEGIN:VTIMEZONE
TZID:America/Denver
BEGIN:DAYLIGHT
TZOFFSETFROM:-0700
TZOFFSETTO:-0600
TZNAME:MDT
DTSTART:20250309T090000
END:DAYLIGHT
BEGIN:STANDARD
TZOFFSETFROM:-0600
TZOFFSETTO:-0700
TZNAME:MST
DTSTART:20251102T080000
END:STANDARD
BEGIN:DAYLIGHT
TZOFFSETFROM:-0700
TZOFFSETTO:-0600
TZNAME:MDT
DTSTART:20260308T090000
END:DAYLIGHT
BEGIN:STANDARD
TZOFFSETFROM:-0600
TZOFFSETTO:-0700
TZNAME:MST
DTSTART:20261101T080000
END:STANDARD
BEGIN:DAYLIGHT
TZOFFSETFROM:-0700
TZOFFSETTO:-0600
TZNAME:MDT
DTSTART:20270314T090000
END:DAYLIGHT
BEGIN:STANDARD
TZOFFSETFROM:-0600
TZOFFSETTO:-0700
TZNAME:MST
DTSTART:20271107T080000
END:STANDARD
END:VTIMEZONE
BEGIN:VEVENT
DTSTART;VALUE=DATE:20260303
DTEND;VALUE=DATE:20260304
DTSTAMP:20260424T111657
CREATED:20260224T174021Z
LAST-MODIFIED:20260224T174021Z
UID:10000023-1772496000-1772582399@clerkandrecorder.elpasoco.com
SUMMARY:Deadline for El Paso County Retirement Board Election
DESCRIPTION:Ballots for the El Paso County Retirement Board Election must be cast by 4:30 p.m. on Tuesday\, March 3. Employees can mail in their ballot or drop it off at the Citizens Service Center drop-off box.
URL:https://clerkandrecorder.elpasoco.com/event/deadline-for-el-paso-county-retirement-board-election/
LOCATION:CO
END:VEVENT
BEGIN:VEVENT
DTSTART;TZID=America/Denver:20260303T090000
DTEND;TZID=America/Denver:20260303T120000
DTSTAMP:20260424T111657
CREATED:20260224T174357Z
LAST-MODIFIED:20260224T174357Z
UID:10000024-1772528400-1772539200@clerkandrecorder.elpasoco.com
SUMMARY:Board of County Commissioner Meeting
DESCRIPTION:The Board of County Commissioners will meet on Tuesday\, March 3 at 9 a.m. at Centennial Hall on 200 S. Cascade.
URL:https://clerkandrecorder.elpasoco.com/event/board-of-county-commissioner-meeting/
LOCATION:Centennial Hall\, 200 S. Cascade\, Colorado Springs\, CO\, United States
END:VEVENT
BEGIN:VEVENT
DTSTART;TZID=America/Denver:20260310T090000
DTEND;TZID=America/Denver:20260310T120000
DTSTAMP:20260424T111657
CREATED:20260224T174609Z
LAST-MODIFIED:20260224T174609Z
UID:10000025-1773133200-1773144000@clerkandrecorder.elpasoco.com
SUMMARY:Board of County Commissioner Meeting
DESCRIPTION:The Board of County Commissioners will meet Tuesday\, March 10 at 9 a.m. in Centennial Hall on 200 S. Cascade.
URL:https://clerkandrecorder.elpasoco.com/event/board-of-county-commissioner-meeting-2/
LOCATION:Centennial Hall\, 200 S. Cascade\, Colorado Springs\, CO\, United States
END:VEVENT
BEGIN:VEVENT
DTSTART;VALUE=DATE:20260321
DTEND;VALUE=DATE:20260322
DTSTAMP:20260424T111657
CREATED:20260224T173807Z
LAST-MODIFIED:20260224T173807Z
UID:10000022-1774051200-1774137599@clerkandrecorder.elpasoco.com
SUMMARY:Union Town Center DMV Closed
DESCRIPTION:The Union Town Center DMV will be closed Saturday\, March 21. Motor vehicle and marriage license services will be unavailable.
URL:https://clerkandrecorder.elpasoco.com/event/union-town-center-dmv-closed-3/
LOCATION:Union Town Center DMV\, 8830 N. Union Blvd\, Colorado Springs\, CO\, United States
END:VEVENT
BEGIN:VEVENT
DTSTART;TZID=America/Denver:20260331T143000
DTEND;TZID=America/Denver:20260331T170000
DTSTAMP:20260424T111657
CREATED:20260330T172722Z
LAST-MODIFIED:20260330T172722Z
UID:10000034-1774967400-1774976400@clerkandrecorder.elpasoco.com
SUMMARY:Recording Department Closing Early
DESCRIPTION:The Recording Department is closing early at 2:30 p.m. on Tuesday\, March 31\, for a staff meeting. You can search for marriage and real estate records online at publicrecordsearch.elpasoco.com.
URL:https://clerkandrecorder.elpasoco.com/event/recording-department-closing-early/
LOCATION:Recording Department\, 1675 W. Garden of the Gods Road\, Colorado Springs\, CO\, United States
CATEGORIES:Recording
END:VEVENT
END:VCALENDAR